BEGIN:VCALENDAR
VERSION:2.0
PRODID:-//Squarespace Inc/Squarespace 6//v6//EN
BEGIN:VEVENT
UID:5b89c8b6562fa7f1bb087ffd@squarespace.com
DTSTAMP:20180831T231237Z
DTSTART:20180907T073000Z
DTEND:20180928T083000Z
SUMMARY:Yoga Therapy for Upper Back Pain
END:VEVENT
END:VCALENDAR
