BEGIN:VCALENDAR
VERSION:2.0
PRODID:-//Squarespace Inc/Squarespace 6//v6//EN
BEGIN:VEVENT
UID:5ceb2700e79c7041acc6b6dc@squarespace.com
DTSTAMP:20190619T023932Z
DTSTART:20190813T220000Z
DTEND:20190814T110000Z
SUMMARY:Global Yoga Therapy Day
GEO:-19.302574;146.735437
LOCATION:Your Yoga Therapy\, 117 Thuringowa Drive\, Kirwan\, Australia
END:VEVENT
END:VCALENDAR
