BEGIN:VCALENDAR
VERSION:2.0
PRODID:-//Squarespace Inc/Squarespace 6//v6//EN
BEGIN:VEVENT
UID:5f190c8320a2860a5a169865@squarespace.com
DTSTAMP:20200723T041346Z
DTSTART:20201004T083000Z
DTEND:20201004T093000Z
SUMMARY:Chocolate Meditation Bliss in Bushy Beach
END:VEVENT
END:VCALENDAR
