BEGIN:VCALENDAR
VERSION:2.0
PRODID:-//Squarespace Inc/Squarespace 6//v6//EN
BEGIN:VEVENT
UID:5efea91ea3e232150d2fb4b9@squarespace.com
DTSTAMP:20200703T034842Z
DTSTART:20200813T210000Z
DTEND:20200814T070000Z
SUMMARY:Global Yoga Therapy Day 2020
END:VEVENT
END:VCALENDAR
