BEGIN:VCALENDAR
VERSION:2.0
PRODID:-//Squarespace Inc/Squarespace 6//v6//EN
BEGIN:VEVENT
UID:5efd172766dc5200a07644c5@squarespace.com
DTSTAMP:20200701T235948Z
DTSTART:20200705T083000Z
DTEND:20200705T093000Z
SUMMARY:Full Moon Meditation
GEO:-19.191996;146.677232
LOCATION:AWPilates and Wellness Centre\, 367 Mount Low Pkwy\, Bushland Beac
 h\, QLD\, 4818\, Australia
END:VEVENT
END:VCALENDAR
