BEGIN:VCALENDAR
VERSION:2.0
PRODID:-//Squarespace Inc/Squarespace 6//v6//EN
BEGIN:VEVENT
UID:5f1908dfe41cd459d389eeb2@squarespace.com
DTSTAMP:20200723T040459Z
DTSTART:20200802T083000Z
DTEND:20200802T093000Z
SUMMARY:Full Moon Meditation in Bushland Beach
END:VEVENT
END:VCALENDAR
