BEGIN:VCALENDAR
VERSION:2.0
PRODID:-//Squarespace Inc/Squarespace 6//v6//EN
BEGIN:VEVENT
UID:5f39025861c9ab2aece8f9d4@squarespace.com
DTSTAMP:20200816T100358Z
DTSTART:20200825T080000Z
DTEND:20200825T100000Z
SUMMARY:Kirwan Movie and Popcorn night
END:VEVENT
END:VCALENDAR
