BEGIN:VCALENDAR
VERSION:2.0
PRODID:-//Squarespace Inc/Squarespace 6//v6//EN
BEGIN:VEVENT
UID:5f3904f4a5ff9a5e82c35721@squarespace.com
DTSTAMP:20200816T100842Z
DTSTART:20200830T080000Z
DTEND:20200830T100000Z
SUMMARY:Kirwan Movie and Popcorn night
GEO:-19.302574;146.735437
LOCATION:Your Yoga Therapy\, 117 Thuringowa Drive\, Kirwan\, Australia
END:VEVENT
END:VCALENDAR
