BEGIN:VCALENDAR
VERSION:2.0
PRODID:-//Squarespace Inc/Squarespace 6//v6//EN
BEGIN:VEVENT
UID:5f190efe643b31773daf9a92@squarespace.com
DTSTAMP:20200816T095255Z
DTSTART:20200913T083000Z
DTEND:20200913T100000Z
SUMMARY:Movie Night at Bushy Beach - My Year or Living Mindfully
END:VEVENT
END:VCALENDAR
