BEGIN:VCALENDAR
VERSION:2.0
PRODID:-//Squarespace Inc/Squarespace 6//v6//EN
BEGIN:VEVENT
UID:5fbc2441b0121e6a6763daa8@squarespace.com
DTSTAMP:20201126T095604Z
DTSTART:20210103T213000Z
DTEND:20210107T223000Z
SUMMARY:Yoga Therapy for People with Disability
GEO:-19.302594;146.73544
LOCATION:Your Yoga Therapy\, 117 Thuringowa Drive\, Kirwan\, QLD\, 4817\, A
 ustralia
END:VEVENT
END:VCALENDAR
